BEGIN:VCALENDAR
VERSION:2.0
PRODID:icalendar-ruby
CALSCALE:GREGORIAN
METHOD:PUBLISH
BEGIN:VTIMEZONE
TZID:Australia/Sydney
BEGIN:DAYLIGHT
DTSTART:20261004T030000
TZOFFSETFROM:+1000
TZOFFSETTO:+1100
RRULE:FREQ=YEARLY;BYDAY=1SU;BYMONTH=10
TZNAME:AEDT
END:DAYLIGHT
BEGIN:STANDARD
DTSTART:20260405T020000
TZOFFSETFROM:+1100
TZOFFSETTO:+1000
RRULE:FREQ=YEARLY;BYDAY=1SU;BYMONTH=4
TZNAME:AEST
END:STANDARD
END:VTIMEZONE
BEGIN:VEVENT
DTSTAMP:20260425T135439Z
UID:inspection_3013384
DTSTART;TZID=Australia/Sydney:20260428T170000
DTEND;TZID=Australia/Sydney:20260428T173000
CLASS:PUBLIC
CREATED:20260425T143954
DESCRIPTION: 
LAST-MODIFIED:20260425T143954
LOCATION:281 Elizabeth  Street\, SYDNEY NSW 2000\, Australia
SUMMARY:281 Elizabeth  Street\,  Inspection
URL;VALUE=URI:boutiquepropertyagents.com
END:VEVENT
END:VCALENDAR
